BEGIN:VCALENDAR
VERSION:2.0
PRODID:-//BratteborgsRyttarsallskap - ECPv6.15.20//NONSGML v1.0//EN
CALSCALE:GREGORIAN
METHOD:PUBLISH
X-ORIGINAL-URL:https://bratteborgsrs.se
X-WR-CALDESC:Händelser för BratteborgsRyttarsallskap
REFRESH-INTERVAL;VALUE=DURATION:PT1H
X-Robots-Tag:noindex
X-PUBLISHED-TTL:PT1H
BEGIN:VTIMEZONE
TZID:Europe/Paris
BEGIN:DAYLIGHT
TZOFFSETFROM:+0100
TZOFFSETTO:+0200
TZNAME:CEST
DTSTART:20220327T010000
END:DAYLIGHT
BEGIN:STANDARD
TZOFFSETFROM:+0200
TZOFFSETTO:+0100
TZNAME:CET
DTSTART:20221030T010000
END:STANDARD
BEGIN:DAYLIGHT
TZOFFSETFROM:+0100
TZOFFSETTO:+0200
TZNAME:CEST
DTSTART:20230326T010000
END:DAYLIGHT
BEGIN:STANDARD
TZOFFSETFROM:+0200
TZOFFSETTO:+0100
TZNAME:CET
DTSTART:20231029T010000
END:STANDARD
BEGIN:DAYLIGHT
TZOFFSETFROM:+0100
TZOFFSETTO:+0200
TZNAME:CEST
DTSTART:20240331T010000
END:DAYLIGHT
BEGIN:STANDARD
TZOFFSETFROM:+0200
TZOFFSETTO:+0100
TZNAME:CET
DTSTART:20241027T010000
END:STANDARD
END:VTIMEZONE
BEGIN:VEVENT
DTSTART;VALUE=DATE:20230518
DTEND;VALUE=DATE:20230519
DTSTAMP:20260425T173314
CREATED:20230430T084614Z
LAST-MODIFIED:20230430T084725Z
UID:371-1684368000-1684454399@bratteborgsrs.se
SUMMARY:Inga lektioner 18:e maj
DESCRIPTION:
URL:https://bratteborgsrs.se/event/inga-lektioner-18-maj/
END:VEVENT
BEGIN:VEVENT
DTSTART;TZID=Europe/Paris:20230518T100000
DTEND;TZID=Europe/Paris:20230518T110000
DTSTAMP:20260425T173314
CREATED:20230517T063218Z
LAST-MODIFIED:20230517T063218Z
UID:395-1684404000-1684407600@bratteborgsrs.se
SUMMARY:Ridhuset bokat
DESCRIPTION:
URL:https://bratteborgsrs.se/event/ridhuset-bokat-6/
END:VEVENT
BEGIN:VEVENT
DTSTART;TZID=Europe/Paris:20230518T110000
DTEND;TZID=Europe/Paris:20230518T120000
DTSTAMP:20260425T173314
CREATED:20230510T080934Z
LAST-MODIFIED:20230510T081157Z
UID:393-1684407600-1684411200@bratteborgsrs.se
SUMMARY:Bygga bana inför dressyrtävling
DESCRIPTION:
URL:https://bratteborgsrs.se/event/bygga-bana-infor-dressyrtavling/
END:VEVENT
END:VCALENDAR