BEGIN:VCALENDAR
VERSION:2.0
PRODID:-//BratteborgsRyttarsallskap - ECPv6.15.20//NONSGML v1.0//EN
CALSCALE:GREGORIAN
METHOD:PUBLISH
X-WR-CALNAME:BratteborgsRyttarsallskap
X-ORIGINAL-URL:https://bratteborgsrs.se
X-WR-CALDESC:Händelser för BratteborgsRyttarsallskap
REFRESH-INTERVAL;VALUE=DURATION:PT1H
X-Robots-Tag:noindex
X-PUBLISHED-TTL:PT1H
BEGIN:VTIMEZONE
TZID:Europe/Paris
BEGIN:DAYLIGHT
TZOFFSETFROM:+0100
TZOFFSETTO:+0200
TZNAME:CEST
DTSTART:20220327T010000
END:DAYLIGHT
BEGIN:STANDARD
TZOFFSETFROM:+0200
TZOFFSETTO:+0100
TZNAME:CET
DTSTART:20221030T010000
END:STANDARD
BEGIN:DAYLIGHT
TZOFFSETFROM:+0100
TZOFFSETTO:+0200
TZNAME:CEST
DTSTART:20230326T010000
END:DAYLIGHT
BEGIN:STANDARD
TZOFFSETFROM:+0200
TZOFFSETTO:+0100
TZNAME:CET
DTSTART:20231029T010000
END:STANDARD
BEGIN:DAYLIGHT
TZOFFSETFROM:+0100
TZOFFSETTO:+0200
TZNAME:CEST
DTSTART:20240331T010000
END:DAYLIGHT
BEGIN:STANDARD
TZOFFSETFROM:+0200
TZOFFSETTO:+0100
TZNAME:CET
DTSTART:20241027T010000
END:STANDARD
END:VTIMEZONE
BEGIN:VEVENT
DTSTART;VALUE=DATE:20230606
DTEND;VALUE=DATE:20230607
DTSTAMP:20260425T145706
CREATED:20230430T084653Z
LAST-MODIFIED:20230430T084653Z
UID:373-1686009600-1686095999@bratteborgsrs.se
SUMMARY:Inga lektioner 6:e juni
DESCRIPTION:
URL:https://bratteborgsrs.se/event/inga-lektioner-6e-juni/
END:VEVENT
BEGIN:VEVENT
DTSTART;TZID=Europe/Paris:20230606T090000
DTEND;TZID=Europe/Paris:20230606T111500
DTSTAMP:20260425T145706
CREATED:20230605T180128Z
LAST-MODIFIED:20230605T180254Z
UID:412-1686042000-1686050100@bratteborgsrs.se
SUMMARY:Ridbanan bokad -  Anni träning
DESCRIPTION:
URL:https://bratteborgsrs.se/event/ridbanan-bokad-anni-traning/
END:VEVENT
END:VCALENDAR