BEGIN:VCALENDAR
VERSION:2.0
PRODID:-//BratteborgsRyttarsallskap - ECPv6.15.20//NONSGML v1.0//EN
CALSCALE:GREGORIAN
METHOD:PUBLISH
X-WR-CALNAME:BratteborgsRyttarsallskap
X-ORIGINAL-URL:https://bratteborgsrs.se
X-WR-CALDESC:Händelser för BratteborgsRyttarsallskap
REFRESH-INTERVAL;VALUE=DURATION:PT1H
X-Robots-Tag:noindex
X-PUBLISHED-TTL:PT1H
BEGIN:VTIMEZONE
TZID:Europe/Paris
BEGIN:DAYLIGHT
TZOFFSETFROM:+0100
TZOFFSETTO:+0200
TZNAME:CEST
DTSTART:20220327T010000
END:DAYLIGHT
BEGIN:STANDARD
TZOFFSETFROM:+0200
TZOFFSETTO:+0100
TZNAME:CET
DTSTART:20221030T010000
END:STANDARD
BEGIN:DAYLIGHT
TZOFFSETFROM:+0100
TZOFFSETTO:+0200
TZNAME:CEST
DTSTART:20230326T010000
END:DAYLIGHT
BEGIN:STANDARD
TZOFFSETFROM:+0200
TZOFFSETTO:+0100
TZNAME:CET
DTSTART:20231029T010000
END:STANDARD
BEGIN:DAYLIGHT
TZOFFSETFROM:+0100
TZOFFSETTO:+0200
TZNAME:CEST
DTSTART:20240331T010000
END:DAYLIGHT
BEGIN:STANDARD
TZOFFSETFROM:+0200
TZOFFSETTO:+0100
TZNAME:CET
DTSTART:20241027T010000
END:STANDARD
END:VTIMEZONE
BEGIN:VEVENT
DTSTART;TZID=Europe/Paris:20231029T123000
DTEND;TZID=Europe/Paris:20231029T160000
DTSTAMP:20260423T004054
CREATED:20231012T151948Z
LAST-MODIFIED:20231012T151948Z
UID:523-1698582600-1698595200@bratteborgsrs.se
SUMMARY:Styrelsemöte och efterföljande fixardag
DESCRIPTION:
URL:https://bratteborgsrs.se/event/styrelsemote-och-efterfoljande-fixardag/
END:VEVENT
END:VCALENDAR