BEGIN:VCALENDAR
VERSION:2.0
PRODID:-//BratteborgsRyttarsallskap - ECPv6.15.20//NONSGML v1.0//EN
CALSCALE:GREGORIAN
METHOD:PUBLISH
X-WR-CALNAME:BratteborgsRyttarsallskap
X-ORIGINAL-URL:https://bratteborgsrs.se
X-WR-CALDESC:Händelser för BratteborgsRyttarsallskap
REFRESH-INTERVAL;VALUE=DURATION:PT1H
X-Robots-Tag:noindex
X-PUBLISHED-TTL:PT1H
BEGIN:VTIMEZONE
TZID:Europe/Paris
BEGIN:DAYLIGHT
TZOFFSETFROM:+0100
TZOFFSETTO:+0200
TZNAME:CEST
DTSTART:20230326T010000
END:DAYLIGHT
BEGIN:STANDARD
TZOFFSETFROM:+0200
TZOFFSETTO:+0100
TZNAME:CET
DTSTART:20231029T010000
END:STANDARD
BEGIN:DAYLIGHT
TZOFFSETFROM:+0100
TZOFFSETTO:+0200
TZNAME:CEST
DTSTART:20240331T010000
END:DAYLIGHT
BEGIN:STANDARD
TZOFFSETFROM:+0200
TZOFFSETTO:+0100
TZNAME:CET
DTSTART:20241027T010000
END:STANDARD
BEGIN:DAYLIGHT
TZOFFSETFROM:+0100
TZOFFSETTO:+0200
TZNAME:CEST
DTSTART:20250330T010000
END:DAYLIGHT
BEGIN:STANDARD
TZOFFSETFROM:+0200
TZOFFSETTO:+0100
TZNAME:CET
DTSTART:20251026T010000
END:STANDARD
END:VTIMEZONE
BEGIN:VEVENT
DTSTART;TZID=Europe/Paris:20240108T164500
DTEND;TZID=Europe/Paris:20240108T211500
DTSTAMP:20260422T184112
CREATED:20231213T113633Z
LAST-MODIFIED:20240105T164207Z
UID:590-1704732300-1704748500@bratteborgsrs.se
SUMMARY:Ridskolan startar vårterminen
DESCRIPTION:Terminstart framflyttad till 15/1.
URL:https://bratteborgsrs.se/event/ridskolan-startar-varterminen/
END:VEVENT
END:VCALENDAR