BEGIN:VCALENDAR
VERSION:2.0
PRODID:-//BratteborgsRyttarsallskap - ECPv6.15.20//NONSGML v1.0//EN
CALSCALE:GREGORIAN
METHOD:PUBLISH
X-ORIGINAL-URL:https://bratteborgsrs.se
X-WR-CALDESC:Händelser för BratteborgsRyttarsallskap
REFRESH-INTERVAL;VALUE=DURATION:PT1H
X-Robots-Tag:noindex
X-PUBLISHED-TTL:PT1H
BEGIN:VTIMEZONE
TZID:Europe/Paris
BEGIN:DAYLIGHT
TZOFFSETFROM:+0100
TZOFFSETTO:+0200
TZNAME:CEST
DTSTART:20220327T010000
END:DAYLIGHT
BEGIN:STANDARD
TZOFFSETFROM:+0200
TZOFFSETTO:+0100
TZNAME:CET
DTSTART:20221030T010000
END:STANDARD
BEGIN:DAYLIGHT
TZOFFSETFROM:+0100
TZOFFSETTO:+0200
TZNAME:CEST
DTSTART:20230326T010000
END:DAYLIGHT
BEGIN:STANDARD
TZOFFSETFROM:+0200
TZOFFSETTO:+0100
TZNAME:CET
DTSTART:20231029T010000
END:STANDARD
BEGIN:DAYLIGHT
TZOFFSETFROM:+0100
TZOFFSETTO:+0200
TZNAME:CEST
DTSTART:20240331T010000
END:DAYLIGHT
BEGIN:STANDARD
TZOFFSETFROM:+0200
TZOFFSETTO:+0100
TZNAME:CET
DTSTART:20241027T010000
END:STANDARD
BEGIN:DAYLIGHT
TZOFFSETFROM:+0100
TZOFFSETTO:+0200
TZNAME:CEST
DTSTART:20250330T010000
END:DAYLIGHT
BEGIN:STANDARD
TZOFFSETFROM:+0200
TZOFFSETTO:+0100
TZNAME:CET
DTSTART:20251026T010000
END:STANDARD
END:VTIMEZONE
BEGIN:VEVENT
DTSTART;TZID=Europe/Paris:20231110T143000
DTEND;TZID=Europe/Paris:20231110T150000
DTSTAMP:20260423T004132
CREATED:20231109T154203Z
LAST-MODIFIED:20231109T154203Z
UID:537-1699626600-1699628400@bratteborgsrs.se
SUMMARY:Ridhuset bokat
DESCRIPTION:
URL:https://bratteborgsrs.se/event/ridhuset-bokat-20/
END:VEVENT
BEGIN:VEVENT
DTSTART;TZID=Europe/Paris:20231119T170000
DTEND;TZID=Europe/Paris:20231119T180000
DTSTAMP:20260423T004132
CREATED:20231116T152543Z
LAST-MODIFIED:20231116T152543Z
UID:545-1700413200-1700416800@bratteborgsrs.se
SUMMARY:Ridhuset bokat
DESCRIPTION:
URL:https://bratteborgsrs.se/event/ridhuset-bokat-22/
END:VEVENT
BEGIN:VEVENT
DTSTART;TZID=Europe/Paris:20231123T160000
DTEND;TZID=Europe/Paris:20231123T170000
DTSTAMP:20260423T004132
CREATED:20231123T111612Z
LAST-MODIFIED:20231123T111612Z
UID:548-1700755200-1700758800@bratteborgsrs.se
SUMMARY:Ridhuset bokat
DESCRIPTION:
URL:https://bratteborgsrs.se/event/ridhuset-bokat-23/
END:VEVENT
BEGIN:VEVENT
DTSTART;TZID=Europe/Paris:20231130T153000
DTEND;TZID=Europe/Paris:20231130T160000
DTSTAMP:20260423T004132
CREATED:20231129T193034Z
LAST-MODIFIED:20231129T193034Z
UID:553-1701358200-1701360000@bratteborgsrs.se
SUMMARY:Ridhuset bokat
DESCRIPTION:
URL:https://bratteborgsrs.se/event/ridhuset-bokat-24/
END:VEVENT
BEGIN:VEVENT
DTSTART;TZID=Europe/Paris:20231202T160000
DTEND;TZID=Europe/Paris:20231202T170000
DTSTAMP:20260423T004132
CREATED:20231201T075403Z
LAST-MODIFIED:20231201T075403Z
UID:563-1701532800-1701536400@bratteborgsrs.se
SUMMARY:Ridhuset bokat
DESCRIPTION:
URL:https://bratteborgsrs.se/event/ridhuset-bokat-25/
END:VEVENT
BEGIN:VEVENT
DTSTART;TZID=Europe/Paris:20231203T150000
DTEND;TZID=Europe/Paris:20231203T154500
DTSTAMP:20260423T004132
CREATED:20231202T122604Z
LAST-MODIFIED:20231202T122604Z
UID:568-1701615600-1701618300@bratteborgsrs.se
SUMMARY:Ridhuset bokat dressyrträning för Anni
DESCRIPTION:
URL:https://bratteborgsrs.se/event/ridhuset-bokat-dressyrtraning-for-anni/
END:VEVENT
BEGIN:VEVENT
DTSTART;TZID=Europe/Paris:20231204T180000
DTEND;TZID=Europe/Paris:20231204T200000
DTSTAMP:20260423T004132
CREATED:20231129T193112Z
LAST-MODIFIED:20231129T193112Z
UID:555-1701712800-1701720000@bratteborgsrs.se
SUMMARY:Styrelsemöte i Krubban
DESCRIPTION:
URL:https://bratteborgsrs.se/event/styrelsemote-i-krubban/
END:VEVENT
BEGIN:VEVENT
DTSTART;TZID=Europe/Paris:20231208T163000
DTEND;TZID=Europe/Paris:20231208T183000
DTSTAMP:20260423T004132
CREATED:20231206T210851Z
LAST-MODIFIED:20231208T110703Z
UID:570-1702053000-1702060200@bratteborgsrs.se
SUMMARY:Ridhuset bokat - observera förlängd bokning
DESCRIPTION:
URL:https://bratteborgsrs.se/event/ridhuset-bokat-26/
END:VEVENT
BEGIN:VEVENT
DTSTART;TZID=Europe/Paris:20231210T153000
DTEND;TZID=Europe/Paris:20231210T170000
DTSTAMP:20260423T004132
CREATED:20231201T154837Z
LAST-MODIFIED:20231208T135405Z
UID:565-1702222200-1702227600@bratteborgsrs.se
SUMMARY:Ridande luciatåg Bratteborg
DESCRIPTION:Ridande luciatåg med tillhörande fackeltåg avgår från stallet till Bratteborg kl 15.30. \nEfteråt blir det fika\, korv\, lotterier och dans kring granen i ridhuset \nVälkomna!
URL:https://bratteborgsrs.se/event/ridande-luciatag-bratteborg/
END:VEVENT
BEGIN:VEVENT
DTSTART;TZID=Europe/Paris:20231215T143000
DTEND;TZID=Europe/Paris:20231215T151500
DTSTAMP:20260423T004132
CREATED:20231213T113448Z
LAST-MODIFIED:20231213T113448Z
UID:586-1702650600-1702653300@bratteborgsrs.se
SUMMARY:Ridhuset bokat
DESCRIPTION:
URL:https://bratteborgsrs.se/event/ridhuset-bokat-27/
END:VEVENT
BEGIN:VEVENT
DTSTART;TZID=Europe/Paris:20231221T164500
DTEND;TZID=Europe/Paris:20231221T211500
DTSTAMP:20260423T004132
CREATED:20231213T113554Z
LAST-MODIFIED:20231213T113554Z
UID:588-1703177100-1703193300@bratteborgsrs.se
SUMMARY:Ridskolans sista lektionsdag för ht23
DESCRIPTION:
URL:https://bratteborgsrs.se/event/ridskolans-sista-lektionsdag-for-ht23/
END:VEVENT
BEGIN:VEVENT
DTSTART;TZID=Europe/Paris:20231222T183000
DTEND;TZID=Europe/Paris:20231222T193000
DTSTAMP:20260423T004132
CREATED:20231222T071513Z
LAST-MODIFIED:20231222T071513Z
UID:597-1703269800-1703273400@bratteborgsrs.se
SUMMARY:Ridhuset bokat
DESCRIPTION:
URL:https://bratteborgsrs.se/event/ridhuset-bokat-29/
END:VEVENT
BEGIN:VEVENT
DTSTART;TZID=Europe/Paris:20231223T090000
DTEND;TZID=Europe/Paris:20231223T120000
DTSTAMP:20260423T004132
CREATED:20231222T135622Z
LAST-MODIFIED:20231222T135622Z
UID:613-1703322000-1703332800@bratteborgsrs.se
SUMMARY:Ridhuset bokat
DESCRIPTION:
URL:https://bratteborgsrs.se/event/ridhuset-bokat-30/
END:VEVENT
BEGIN:VEVENT
DTSTART;TZID=Europe/Paris:20231224T090000
DTEND;TZID=Europe/Paris:20231224T120000
DTSTAMP:20260423T004132
CREATED:20231222T135659Z
LAST-MODIFIED:20231222T135659Z
UID:615-1703408400-1703419200@bratteborgsrs.se
SUMMARY:Ridhuset bokat
DESCRIPTION:
URL:https://bratteborgsrs.se/event/ridhuset-bokat-31/
END:VEVENT
BEGIN:VEVENT
DTSTART;TZID=Europe/Paris:20231225T090000
DTEND;TZID=Europe/Paris:20231225T120000
DTSTAMP:20260423T004132
CREATED:20231222T135728Z
LAST-MODIFIED:20231222T135728Z
UID:617-1703494800-1703505600@bratteborgsrs.se
SUMMARY:Ridhuset bokat
DESCRIPTION:
URL:https://bratteborgsrs.se/event/ridhuset-bokat-32/
END:VEVENT
BEGIN:VEVENT
DTSTART;TZID=Europe/Paris:20231226T090000
DTEND;TZID=Europe/Paris:20231226T120000
DTSTAMP:20260423T004132
CREATED:20231222T135752Z
LAST-MODIFIED:20231222T135752Z
UID:619-1703581200-1703592000@bratteborgsrs.se
SUMMARY:Ridhuset bokat
DESCRIPTION:
URL:https://bratteborgsrs.se/event/ridhuset-bokat-33/
END:VEVENT
BEGIN:VEVENT
DTSTART;TZID=Europe/Paris:20231227T154500
DTEND;TZID=Europe/Paris:20231227T201500
DTSTAMP:20260423T004132
CREATED:20231213T113742Z
LAST-MODIFIED:20231213T113742Z
UID:592-1703691900-1703708100@bratteborgsrs.se
SUMMARY:Ridhuset bokat
DESCRIPTION:
URL:https://bratteborgsrs.se/event/ridhuset-bokat-28/
END:VEVENT
BEGIN:VEVENT
DTSTART;TZID=Europe/Paris:20231228T164500
DTEND;TZID=Europe/Paris:20231228T211500
DTSTAMP:20260423T004132
CREATED:20231222T135834Z
LAST-MODIFIED:20231222T135834Z
UID:621-1703781900-1703798100@bratteborgsrs.se
SUMMARY:Ridhuset bokat
DESCRIPTION:
URL:https://bratteborgsrs.se/event/ridhuset-bokat-34/
END:VEVENT
BEGIN:VEVENT
DTSTART;TZID=Europe/Paris:20231229T090000
DTEND;TZID=Europe/Paris:20231229T110000
DTSTAMP:20260423T004132
CREATED:20231222T222157Z
LAST-MODIFIED:20231228T112524Z
UID:638-1703840400-1703847600@bratteborgsrs.se
SUMMARY:Ridhuset bokat Anni dressyrträning - uppdaterad med sluttid
DESCRIPTION:Återkommer med hur länge det blir bokat.
URL:https://bratteborgsrs.se/event/ridhuset-bokat-anni-dressyrtraning/
END:VEVENT
BEGIN:VEVENT
DTSTART;TZID=Europe/Paris:20231230T090000
DTEND;TZID=Europe/Paris:20231230T120000
DTSTAMP:20260423T004132
CREATED:20231222T135909Z
LAST-MODIFIED:20231222T135909Z
UID:623-1703926800-1703937600@bratteborgsrs.se
SUMMARY:Ridhuset bokat
DESCRIPTION:
URL:https://bratteborgsrs.se/event/ridhuset-bokat-35/
END:VEVENT
BEGIN:VEVENT
DTSTART;TZID=Europe/Paris:20231230T150000
DTEND;TZID=Europe/Paris:20231230T160000
DTSTAMP:20260423T004132
CREATED:20231229T172549Z
LAST-MODIFIED:20231229T172549Z
UID:643-1703948400-1703952000@bratteborgsrs.se
SUMMARY:Ridhuset bokat
DESCRIPTION:
URL:https://bratteborgsrs.se/event/ridhuset-bokat-42/
END:VEVENT
BEGIN:VEVENT
DTSTART;TZID=Europe/Paris:20231231T090000
DTEND;TZID=Europe/Paris:20231231T120000
DTSTAMP:20260423T004132
CREATED:20231222T135931Z
LAST-MODIFIED:20231222T135931Z
UID:625-1704013200-1704024000@bratteborgsrs.se
SUMMARY:Ridhuset bokat
DESCRIPTION:
URL:https://bratteborgsrs.se/event/ridhuset-bokat-36/
END:VEVENT
BEGIN:VEVENT
DTSTART;TZID=Europe/Paris:20240101T090000
DTEND;TZID=Europe/Paris:20240101T120000
DTSTAMP:20260423T004132
CREATED:20231222T135953Z
LAST-MODIFIED:20231222T135953Z
UID:627-1704099600-1704110400@bratteborgsrs.se
SUMMARY:Ridhuset bokat
DESCRIPTION:
URL:https://bratteborgsrs.se/event/ridhuset-bokat-37/
END:VEVENT
BEGIN:VEVENT
DTSTART;TZID=Europe/Paris:20240102T094500
DTEND;TZID=Europe/Paris:20240102T120000
DTSTAMP:20260423T004132
CREATED:20231222T221908Z
LAST-MODIFIED:20231222T221908Z
UID:630-1704188700-1704196800@bratteborgsrs.se
SUMMARY:Ridhuset bokat
DESCRIPTION:
URL:https://bratteborgsrs.se/event/ridhuset-bokat-38/
END:VEVENT
BEGIN:VEVENT
DTSTART;TZID=Europe/Paris:20240102T141500
DTEND;TZID=Europe/Paris:20240102T163000
DTSTAMP:20260423T004132
CREATED:20231222T221951Z
LAST-MODIFIED:20231222T221951Z
UID:632-1704204900-1704213000@bratteborgsrs.se
SUMMARY:Ridhuset bokat
DESCRIPTION:
URL:https://bratteborgsrs.se/event/ridhuset-bokat-39/
END:VEVENT
BEGIN:VEVENT
DTSTART;TZID=Europe/Paris:20240103T141500
DTEND;TZID=Europe/Paris:20240103T163000
DTSTAMP:20260423T004132
CREATED:20231222T222048Z
LAST-MODIFIED:20240102T153159Z
UID:636-1704291300-1704299400@bratteborgsrs.se
SUMMARY:Ridhuset bokat
DESCRIPTION:
URL:https://bratteborgsrs.se/event/ridhuset-bokat-41-2/
END:VEVENT
BEGIN:VEVENT
DTSTART;TZID=Europe/Paris:20240104T093000
DTEND;TZID=Europe/Paris:20240104T110000
DTSTAMP:20260423T004132
CREATED:20240102T152704Z
LAST-MODIFIED:20240102T152704Z
UID:651-1704360600-1704366000@bratteborgsrs.se
SUMMARY:Ridhuset bokat
DESCRIPTION:
URL:https://bratteborgsrs.se/event/ridhuset-bokat-41/
END:VEVENT
BEGIN:VEVENT
DTSTART;TZID=Europe/Paris:20240105T093000
DTEND;TZID=Europe/Paris:20240105T110000
DTSTAMP:20260423T004132
CREATED:20240102T152759Z
LAST-MODIFIED:20240102T152759Z
UID:653-1704447000-1704452400@bratteborgsrs.se
SUMMARY:Ridhuset bokat
DESCRIPTION:
URL:https://bratteborgsrs.se/event/ridhuset-bokat-43/
END:VEVENT
BEGIN:VEVENT
DTSTART;TZID=Europe/Paris:20240106T140000
DTEND;TZID=Europe/Paris:20240106T140000
DTSTAMP:20260423T004132
CREATED:20231222T222336Z
LAST-MODIFIED:20240105T163051Z
UID:640-1704549600-1704549600@bratteborgsrs.se
SUMMARY:Ridhuset bokat Anni dressyrträning INSTÄLLT
DESCRIPTION:Återkommer med hur länge det är bokat.
URL:https://bratteborgsrs.se/event/ridhuset-bokat-anni-dressyrtraning-2/
END:VEVENT
BEGIN:VEVENT
DTSTART;VALUE=DATE:20240107
DTEND;VALUE=DATE:20240108
DTSTAMP:20260423T004132
CREATED:20231213T113900Z
LAST-MODIFIED:20240105T163024Z
UID:594-1704585600-1704671999@bratteborgsrs.se
SUMMARY:Blåbärshoppning INSTÄLLT
DESCRIPTION:Inställt!
URL:https://bratteborgsrs.se/event/blabarshoppning/
END:VEVENT
END:VCALENDAR