BEGIN:VCALENDAR
VERSION:2.0
PRODID:-//BratteborgsRyttarsallskap - ECPv6.15.20//NONSGML v1.0//EN
CALSCALE:GREGORIAN
METHOD:PUBLISH
X-ORIGINAL-URL:https://bratteborgsrs.se
X-WR-CALDESC:Händelser för BratteborgsRyttarsallskap
REFRESH-INTERVAL;VALUE=DURATION:PT1H
X-Robots-Tag:noindex
X-PUBLISHED-TTL:PT1H
BEGIN:VTIMEZONE
TZID:Europe/Paris
BEGIN:DAYLIGHT
TZOFFSETFROM:+0100
TZOFFSETTO:+0200
TZNAME:CEST
DTSTART:20230326T010000
END:DAYLIGHT
BEGIN:STANDARD
TZOFFSETFROM:+0200
TZOFFSETTO:+0100
TZNAME:CET
DTSTART:20231029T010000
END:STANDARD
BEGIN:DAYLIGHT
TZOFFSETFROM:+0100
TZOFFSETTO:+0200
TZNAME:CEST
DTSTART:20240331T010000
END:DAYLIGHT
BEGIN:STANDARD
TZOFFSETFROM:+0200
TZOFFSETTO:+0100
TZNAME:CET
DTSTART:20241027T010000
END:STANDARD
BEGIN:DAYLIGHT
TZOFFSETFROM:+0100
TZOFFSETTO:+0200
TZNAME:CEST
DTSTART:20250330T010000
END:DAYLIGHT
BEGIN:STANDARD
TZOFFSETFROM:+0200
TZOFFSETTO:+0100
TZNAME:CET
DTSTART:20251026T010000
END:STANDARD
END:VTIMEZONE
BEGIN:VEVENT
DTSTART;TZID=Europe/Paris:20240116T161500
DTEND;TZID=Europe/Paris:20240116T170000
DTSTAMP:20260423T003739
CREATED:20240113T192710Z
LAST-MODIFIED:20240113T192710Z
UID:691-1705421700-1705424400@bratteborgsrs.se
SUMMARY:Ridhuset bokat
DESCRIPTION:
URL:https://bratteborgsrs.se/event/ridhuset-bokat-47/
END:VEVENT
BEGIN:VEVENT
DTSTART;TZID=Europe/Paris:20240119T143000
DTEND;TZID=Europe/Paris:20240119T150000
DTSTAMP:20260423T003739
CREATED:20240113T193102Z
LAST-MODIFIED:20240113T193102Z
UID:695-1705674600-1705676400@bratteborgsrs.se
SUMMARY:Ridhuset bokat
DESCRIPTION:
URL:https://bratteborgsrs.se/event/ridhuset-bokat-49/
END:VEVENT
BEGIN:VEVENT
DTSTART;TZID=Europe/Paris:20240120T134500
DTEND;TZID=Europe/Paris:20240120T150000
DTSTAMP:20260423T003739
CREATED:20240117T160818Z
LAST-MODIFIED:20240117T160818Z
UID:697-1705758300-1705762800@bratteborgsrs.se
SUMMARY:Ridhuset bokat
DESCRIPTION:
URL:https://bratteborgsrs.se/event/ridhuset-bokat-48/
END:VEVENT
BEGIN:VEVENT
DTSTART;TZID=Europe/Paris:20240123T161500
DTEND;TZID=Europe/Paris:20240123T170000
DTSTAMP:20260423T003739
CREATED:20240119T160131Z
LAST-MODIFIED:20240119T160131Z
UID:703-1706026500-1706029200@bratteborgsrs.se
SUMMARY:Ridhuset bokat
DESCRIPTION:
URL:https://bratteborgsrs.se/event/ridhuset-bokat-51/
END:VEVENT
BEGIN:VEVENT
DTSTART;TZID=Europe/Paris:20240126T143000
DTEND;TZID=Europe/Paris:20240126T150000
DTSTAMP:20260423T003739
CREATED:20240119T160104Z
LAST-MODIFIED:20240119T160104Z
UID:701-1706279400-1706281200@bratteborgsrs.se
SUMMARY:Ridhuset bokat
DESCRIPTION:
URL:https://bratteborgsrs.se/event/ridhuset-bokat-50/
END:VEVENT
BEGIN:VEVENT
DTSTART;TZID=Europe/Paris:20240130T161500
DTEND;TZID=Europe/Paris:20240130T170000
DTSTAMP:20260423T003739
CREATED:20240124T093454Z
LAST-MODIFIED:20240124T093454Z
UID:707-1706631300-1706634000@bratteborgsrs.se
SUMMARY:Ridhuset bokat
DESCRIPTION:
URL:https://bratteborgsrs.se/event/ridhuset-bokat-53/
END:VEVENT
BEGIN:VEVENT
DTSTART;TZID=Europe/Paris:20240201T113000
DTEND;TZID=Europe/Paris:20240201T123000
DTSTAMP:20260423T003739
CREATED:20240131T115240Z
LAST-MODIFIED:20240131T115240Z
UID:712-1706787000-1706790600@bratteborgsrs.se
SUMMARY:Ridhuset bokat
DESCRIPTION:
URL:https://bratteborgsrs.se/event/ridhuset-bokat-55/
END:VEVENT
BEGIN:VEVENT
DTSTART;TZID=Europe/Paris:20240202T143000
DTEND;TZID=Europe/Paris:20240202T150000
DTSTAMP:20260423T003739
CREATED:20240124T093528Z
LAST-MODIFIED:20240124T093528Z
UID:709-1706884200-1706886000@bratteborgsrs.se
SUMMARY:Ridhuset bokat
DESCRIPTION:
URL:https://bratteborgsrs.se/event/ridhuset-bokat-54/
END:VEVENT
BEGIN:VEVENT
DTSTART;TZID=Europe/Paris:20240202T170000
DTEND;TZID=Europe/Paris:20240202T173000
DTSTAMP:20260423T003739
CREATED:20240124T093312Z
LAST-MODIFIED:20240124T093312Z
UID:705-1706893200-1706895000@bratteborgsrs.se
SUMMARY:Ridhuset bokat
DESCRIPTION:
URL:https://bratteborgsrs.se/event/ridhuset-bokat-52/
END:VEVENT
BEGIN:VEVENT
DTSTART;TZID=Europe/Paris:20240205T180000
DTEND;TZID=Europe/Paris:20240205T200000
DTSTAMP:20260423T003739
CREATED:20240103T194046Z
LAST-MODIFIED:20240103T194046Z
UID:663-1707156000-1707163200@bratteborgsrs.se
SUMMARY:Styrelsemöte
DESCRIPTION:Styrelsemöte i Krubban.
URL:https://bratteborgsrs.se/event/styrelsemote-3/
END:VEVENT
BEGIN:VEVENT
DTSTART;TZID=Europe/Paris:20240206T150000
DTEND;TZID=Europe/Paris:20240206T153000
DTSTAMP:20260423T003739
CREATED:20240205T113440Z
LAST-MODIFIED:20240205T113440Z
UID:721-1707231600-1707233400@bratteborgsrs.se
SUMMARY:Ridhuset bokat
DESCRIPTION:
URL:https://bratteborgsrs.se/event/ridhuset-bokat-58/
END:VEVENT
BEGIN:VEVENT
DTSTART;TZID=Europe/Paris:20240206T161500
DTEND;TZID=Europe/Paris:20240206T170000
DTSTAMP:20260423T003739
CREATED:20240202T091649Z
LAST-MODIFIED:20240205T113624Z
UID:717-1707236100-1707238800@bratteborgsrs.se
SUMMARY:Ridhuset bokat
DESCRIPTION:
URL:https://bratteborgsrs.se/event/ridhuset-bokat-56/
END:VEVENT
BEGIN:VEVENT
DTSTART;TZID=Europe/Paris:20240209T143000
DTEND;TZID=Europe/Paris:20240209T150000
DTSTAMP:20260423T003739
CREATED:20240202T091726Z
LAST-MODIFIED:20240205T113609Z
UID:719-1707489000-1707490800@bratteborgsrs.se
SUMMARY:Ridhuset bokat
DESCRIPTION:
URL:https://bratteborgsrs.se/event/ridhuset-bokat-57/
END:VEVENT
BEGIN:VEVENT
DTSTART;TZID=Europe/Paris:20240212T113000
DTEND;TZID=Europe/Paris:20240212T123000
DTSTAMP:20260423T003739
CREATED:20240211T151009Z
LAST-MODIFIED:20240211T151009Z
UID:738-1707737400-1707741000@bratteborgsrs.se
SUMMARY:Ridhuset bokat
DESCRIPTION:
URL:https://bratteborgsrs.se/event/ridhuset-bokat-60/
END:VEVENT
BEGIN:VEVENT
DTSTART;TZID=Europe/Paris:20240213T153000
DTEND;TZID=Europe/Paris:20240213T161500
DTSTAMP:20260423T003739
CREATED:20240212T160026Z
LAST-MODIFIED:20240212T160138Z
UID:741-1707838200-1707840900@bratteborgsrs.se
SUMMARY:Ridhuset bokat
DESCRIPTION:
URL:https://bratteborgsrs.se/event/ridhuset-bokat-61/
END:VEVENT
BEGIN:VEVENT
DTSTART;TZID=Europe/Paris:20240213T161500
DTEND;TZID=Europe/Paris:20240213T170000
DTSTAMP:20260423T003739
CREATED:20240208T201000Z
LAST-MODIFIED:20240208T201000Z
UID:735-1707840900-1707843600@bratteborgsrs.se
SUMMARY:Ridhuset bokat
DESCRIPTION:
URL:https://bratteborgsrs.se/event/ridhuset-bokat-59/
END:VEVENT
BEGIN:VEVENT
DTSTART;TZID=Europe/Paris:20240218T130000
DTEND;TZID=Europe/Paris:20240218T140000
DTSTAMP:20260423T003739
CREATED:20240217T104139Z
LAST-MODIFIED:20240217T104139Z
UID:745-1708261200-1708264800@bratteborgsrs.se
SUMMARY:Ridhuset bokat
DESCRIPTION:
URL:https://bratteborgsrs.se/event/ridhuset-bokat-63/
END:VEVENT
BEGIN:VEVENT
DTSTART;TZID=Europe/Paris:20240220T161500
DTEND;TZID=Europe/Paris:20240220T170000
DTSTAMP:20260423T003739
CREATED:20240215T205614Z
LAST-MODIFIED:20240215T205614Z
UID:743-1708445700-1708448400@bratteborgsrs.se
SUMMARY:Ridhuset bokat
DESCRIPTION:
URL:https://bratteborgsrs.se/event/ridhuset-bokat-62/
END:VEVENT
BEGIN:VEVENT
DTSTART;TZID=Europe/Paris:20240222T160000
DTEND;TZID=Europe/Paris:20240222T164500
DTSTAMP:20260423T003739
CREATED:20240222T115745Z
LAST-MODIFIED:20240222T115745Z
UID:750-1708617600-1708620300@bratteborgsrs.se
SUMMARY:Ridhuset bokat
DESCRIPTION:
URL:https://bratteborgsrs.se/event/ridhuset-bokat-64/
END:VEVENT
BEGIN:VEVENT
DTSTART;TZID=Europe/Paris:20240225T140000
DTEND;TZID=Europe/Paris:20240225T150000
DTSTAMP:20260423T003739
CREATED:20240103T193750Z
LAST-MODIFIED:20240103T193944Z
UID:659-1708869600-1708873200@bratteborgsrs.se
SUMMARY:Årsmöte
DESCRIPTION:Medlemsavgiften för 2024 ska vara betald innan årsmötet.
URL:https://bratteborgsrs.se/event/styrelsemote-2/
END:VEVENT
BEGIN:VEVENT
DTSTART;TZID=Europe/Paris:20240302T170000
DTEND;TZID=Europe/Paris:20240302T180000
DTSTAMP:20260423T003739
CREATED:20240301T134839Z
LAST-MODIFIED:20240301T134931Z
UID:770-1709398800-1709402400@bratteborgsrs.se
SUMMARY:Ridhuset bokat
DESCRIPTION:
URL:https://bratteborgsrs.se/event/ridhuset-bokat-65/
END:VEVENT
BEGIN:VEVENT
DTSTART;TZID=Europe/Paris:20240304T180000
DTEND;TZID=Europe/Paris:20240304T200000
DTSTAMP:20260423T003739
CREATED:20240301T163748Z
LAST-MODIFIED:20240301T163748Z
UID:782-1709575200-1709582400@bratteborgsrs.se
SUMMARY:Styrelsemöte
DESCRIPTION:I krubban på kontoret.
URL:https://bratteborgsrs.se/event/styrelsemote-4/
END:VEVENT
BEGIN:VEVENT
DTSTART;TZID=Europe/Paris:20240305T161500
DTEND;TZID=Europe/Paris:20240305T170000
DTSTAMP:20260423T003739
CREATED:20240301T163639Z
LAST-MODIFIED:20240301T163639Z
UID:780-1709655300-1709658000@bratteborgsrs.se
SUMMARY:Ridhuset bokat
DESCRIPTION:
URL:https://bratteborgsrs.se/event/ridhuset-bokat-67/
END:VEVENT
BEGIN:VEVENT
DTSTART;TZID=Europe/Paris:20240307T110000
DTEND;TZID=Europe/Paris:20240307T120000
DTSTAMP:20260423T003739
CREATED:20240301T163604Z
LAST-MODIFIED:20240301T163604Z
UID:778-1709809200-1709812800@bratteborgsrs.se
SUMMARY:Ridhuset bokat
DESCRIPTION:
URL:https://bratteborgsrs.se/event/ridhuset-bokat-66/
END:VEVENT
BEGIN:VEVENT
DTSTART;TZID=Europe/Paris:20240308T140000
DTEND;TZID=Europe/Paris:20240308T150000
DTSTAMP:20260423T003739
CREATED:20240304T182532Z
LAST-MODIFIED:20240304T182532Z
UID:784-1709906400-1709910000@bratteborgsrs.se
SUMMARY:Ridhuset bokat för uppsättning av sponsorskyltar
DESCRIPTION:
URL:https://bratteborgsrs.se/event/ridhuset-bokat-for-uppsattning-av-sponsorskyltar/
END:VEVENT
BEGIN:VEVENT
DTSTART;TZID=Europe/Paris:20240308T173000
DTEND;TZID=Europe/Paris:20240308T183000
DTSTAMP:20260423T003739
CREATED:20240304T182633Z
LAST-MODIFIED:20240306T071651Z
UID:786-1709919000-1709922600@bratteborgsrs.se
SUMMARY:Ridhuset bokat
DESCRIPTION:
URL:https://bratteborgsrs.se/event/ridhuset-bokat-68/
END:VEVENT
BEGIN:VEVENT
DTSTART;TZID=Europe/Paris:20240309T150000
DTEND;TZID=Europe/Paris:20240309T233000
DTSTAMP:20260423T003739
CREATED:20240306T185252Z
LAST-MODIFIED:20240306T185252Z
UID:790-1709996400-1710027000@bratteborgsrs.se
SUMMARY:Krubban bokad
DESCRIPTION:
URL:https://bratteborgsrs.se/event/krubban-bokad-2/
END:VEVENT
BEGIN:VEVENT
DTSTART;TZID=Europe/Paris:20240312T161500
DTEND;TZID=Europe/Paris:20240312T170000
DTSTAMP:20260423T003739
CREATED:20240311T155152Z
LAST-MODIFIED:20240311T155152Z
UID:793-1710260100-1710262800@bratteborgsrs.se
SUMMARY:Ridhuset bokat
DESCRIPTION:
URL:https://bratteborgsrs.se/event/ridhuset-bokat-69/
END:VEVENT
BEGIN:VEVENT
DTSTART;TZID=Europe/Paris:20240317T130000
DTEND;TZID=Europe/Paris:20240317T140000
DTSTAMP:20260423T003739
CREATED:20240315T114630Z
LAST-MODIFIED:20240315T114630Z
UID:796-1710680400-1710684000@bratteborgsrs.se
SUMMARY:Ridhuset bokat
DESCRIPTION:
URL:https://bratteborgsrs.se/event/ridhuset-bokat-70/
END:VEVENT
BEGIN:VEVENT
DTSTART;TZID=Europe/Paris:20240324T110000
DTEND;TZID=Europe/Paris:20240324T130000
DTSTAMP:20260423T003739
CREATED:20240315T114843Z
LAST-MODIFIED:20240315T114843Z
UID:798-1711278000-1711285200@bratteborgsrs.se
SUMMARY:Söndagsfika med aktivitet
DESCRIPTION:Tipspromenad\, Ponnyridning och Fika i Krubban\, \nVälkomna!
URL:https://bratteborgsrs.se/event/sondagsfika-med-aktivitet/
END:VEVENT
END:VCALENDAR