BEGIN:VCALENDAR
VERSION:2.0
PRODID:-//BratteborgsRyttarsallskap - ECPv6.15.20//NONSGML v1.0//EN
CALSCALE:GREGORIAN
METHOD:PUBLISH
X-WR-CALNAME:BratteborgsRyttarsallskap
X-ORIGINAL-URL:https://bratteborgsrs.se
X-WR-CALDESC:Händelser för BratteborgsRyttarsallskap
REFRESH-INTERVAL;VALUE=DURATION:PT1H
X-Robots-Tag:noindex
X-PUBLISHED-TTL:PT1H
BEGIN:VTIMEZONE
TZID:Europe/Paris
BEGIN:DAYLIGHT
TZOFFSETFROM:+0100
TZOFFSETTO:+0200
TZNAME:CEST
DTSTART:20220327T010000
END:DAYLIGHT
BEGIN:STANDARD
TZOFFSETFROM:+0200
TZOFFSETTO:+0100
TZNAME:CET
DTSTART:20221030T010000
END:STANDARD
BEGIN:DAYLIGHT
TZOFFSETFROM:+0100
TZOFFSETTO:+0200
TZNAME:CEST
DTSTART:20230326T010000
END:DAYLIGHT
BEGIN:STANDARD
TZOFFSETFROM:+0200
TZOFFSETTO:+0100
TZNAME:CET
DTSTART:20231029T010000
END:STANDARD
BEGIN:DAYLIGHT
TZOFFSETFROM:+0100
TZOFFSETTO:+0200
TZNAME:CEST
DTSTART:20240331T010000
END:DAYLIGHT
BEGIN:STANDARD
TZOFFSETFROM:+0200
TZOFFSETTO:+0100
TZNAME:CET
DTSTART:20241027T010000
END:STANDARD
END:VTIMEZONE
BEGIN:VEVENT
DTSTART;TZID=Europe/Paris:20230405T111500
DTEND;TZID=Europe/Paris:20230405T114500
DTSTAMP:20260422T003434
CREATED:20230404T101149Z
LAST-MODIFIED:20230404T101149Z
UID:353-1680693300-1680695100@bratteborgsrs.se
SUMMARY:Ridhuset bokat
DESCRIPTION:
URL:https://bratteborgsrs.se/event/ridhuset-bokat-4/
END:VEVENT
BEGIN:VEVENT
DTSTART;TZID=Europe/Paris:20230324T000000
DTEND;TZID=Europe/Paris:20230324T000000
DTSTAMP:20260422T003434
CREATED:20230315T170024Z
LAST-MODIFIED:20230315T170024Z
UID:289-1679616000-1679616000@bratteborgsrs.se
SUMMARY:Sista dagen för kakbeställning
DESCRIPTION:
URL:https://bratteborgsrs.se/event/sista-dagen-for-kakbestallning/
END:VEVENT
BEGIN:VEVENT
DTSTART;TZID=Europe/Paris:20230226T130000
DTEND;TZID=Europe/Paris:20230226T140000
DTSTAMP:20260422T003434
CREATED:20230104T135618Z
LAST-MODIFIED:20230104T135618Z
UID:175-1677416400-1677420000@bratteborgsrs.se
SUMMARY:Årsmöte BRS
DESCRIPTION:
URL:https://bratteborgsrs.se/event/arsmote-brs/
LOCATION:Krubban
END:VEVENT
BEGIN:VEVENT
DTSTART;TZID=Europe/Paris:20230217T090000
DTEND;TZID=Europe/Paris:20230217T170000
DTSTAMP:20260422T003434
CREATED:20230209T072131Z
LAST-MODIFIED:20230209T072131Z
UID:223-1676624400-1676653200@bratteborgsrs.se
SUMMARY:Ridhuset bokat
DESCRIPTION:
URL:https://bratteborgsrs.se/event/ridhuset-bokat/
END:VEVENT
BEGIN:VEVENT
DTSTART;TZID=Europe/Paris:20230204T180000
DTEND;TZID=Europe/Paris:20230204T200000
DTSTAMP:20260422T003434
CREATED:20230204T180412Z
LAST-MODIFIED:20230204T180412Z
UID:220-1675533600-1675540800@bratteborgsrs.se
SUMMARY:Styrelsemöte
DESCRIPTION:Styrelsen sammanträder. Mejla gärna frågor till styrelsen@bratteborgsrs.se
URL:https://bratteborgsrs.se/event/styrelsemote/
END:VEVENT
BEGIN:VEVENT
DTSTART;TZID=Europe/Paris:20230110T180000
DTEND;TZID=Europe/Paris:20230110T200000
DTSTAMP:20260422T003434
CREATED:20221229T075629Z
LAST-MODIFIED:20221230T101337Z
UID:24-1673373600-1673380800@bratteborgsrs.se
SUMMARY:Styrelsemöte
DESCRIPTION:
URL:https://bratteborgsrs.se/event/fixardag-test/
END:VEVENT
BEGIN:VEVENT
DTSTART;VALUE=DATE:20230102
DTEND;VALUE=DATE:20230103
DTSTAMP:20260422T003434
CREATED:20221230T101128Z
LAST-MODIFIED:20221230T101128Z
UID:138-1672617600-1672703999@bratteborgsrs.se
SUMMARY:Terminsstart ridskolan
DESCRIPTION:
URL:https://bratteborgsrs.se/event/terminsstart-ridskolan/
END:VEVENT
END:VCALENDAR