BEGIN:VCALENDAR
VERSION:2.0
PRODID:-//BratteborgsRyttarsallskap - ECPv6.15.20//NONSGML v1.0//EN
CALSCALE:GREGORIAN
METHOD:PUBLISH
X-WR-CALNAME:BratteborgsRyttarsallskap
X-ORIGINAL-URL:https://bratteborgsrs.se
X-WR-CALDESC:Händelser för BratteborgsRyttarsallskap
REFRESH-INTERVAL;VALUE=DURATION:PT1H
X-Robots-Tag:noindex
X-PUBLISHED-TTL:PT1H
BEGIN:VTIMEZONE
TZID:Europe/Paris
BEGIN:DAYLIGHT
TZOFFSETFROM:+0100
TZOFFSETTO:+0200
TZNAME:CEST
DTSTART:20220327T010000
END:DAYLIGHT
BEGIN:STANDARD
TZOFFSETFROM:+0200
TZOFFSETTO:+0100
TZNAME:CET
DTSTART:20221030T010000
END:STANDARD
BEGIN:DAYLIGHT
TZOFFSETFROM:+0100
TZOFFSETTO:+0200
TZNAME:CEST
DTSTART:20230326T010000
END:DAYLIGHT
BEGIN:STANDARD
TZOFFSETFROM:+0200
TZOFFSETTO:+0100
TZNAME:CET
DTSTART:20231029T010000
END:STANDARD
BEGIN:DAYLIGHT
TZOFFSETFROM:+0100
TZOFFSETTO:+0200
TZNAME:CEST
DTSTART:20240331T010000
END:DAYLIGHT
BEGIN:STANDARD
TZOFFSETFROM:+0200
TZOFFSETTO:+0100
TZNAME:CET
DTSTART:20241027T010000
END:STANDARD
END:VTIMEZONE
BEGIN:VEVENT
DTSTART;TZID=Europe/Paris:20230405T111500
DTEND;TZID=Europe/Paris:20230405T114500
DTSTAMP:20260425T173138
CREATED:20230404T101149Z
LAST-MODIFIED:20230404T101149Z
UID:353-1680693300-1680695100@bratteborgsrs.se
SUMMARY:Ridhuset bokat
DESCRIPTION:
URL:https://bratteborgsrs.se/event/ridhuset-bokat-4/
END:VEVENT
BEGIN:VEVENT
DTSTART;TZID=Europe/Paris:20230405T140000
DTEND;TZID=Europe/Paris:20230405T150000
DTSTAMP:20260425T173138
CREATED:20230404T101055Z
LAST-MODIFIED:20230404T101055Z
UID:351-1680703200-1680706800@bratteborgsrs.se
SUMMARY:Ridhuset bokat
DESCRIPTION:
URL:https://bratteborgsrs.se/event/ridhuset-bokat-3/
END:VEVENT
BEGIN:VEVENT
DTSTART;TZID=Europe/Paris:20230410T120000
DTEND;TZID=Europe/Paris:20230410T140000
DTSTAMP:20260425T173138
CREATED:20230329T141316Z
LAST-MODIFIED:20230329T141316Z
UID:344-1681128000-1681135200@bratteborgsrs.se
SUMMARY:Ridhuset bokat
DESCRIPTION:
URL:https://bratteborgsrs.se/event/ridhuset-bokat-2/
END:VEVENT
BEGIN:VEVENT
DTSTART;TZID=Europe/Paris:20230412T140000
DTEND;TZID=Europe/Paris:20230412T150000
DTSTAMP:20260425T173138
CREATED:20230411T061719Z
LAST-MODIFIED:20230411T061719Z
UID:356-1681308000-1681311600@bratteborgsrs.se
SUMMARY:Ridhuset bokat
DESCRIPTION:
URL:https://bratteborgsrs.se/event/ridhuset-bokat-5/
END:VEVENT
BEGIN:VEVENT
DTSTART;TZID=Europe/Paris:20230416T130000
DTEND;TZID=Europe/Paris:20230416T160000
DTSTAMP:20260425T173138
CREATED:20230315T170919Z
LAST-MODIFIED:20230325T181336Z
UID:301-1681650000-1681660800@bratteborgsrs.se
SUMMARY:Fixardag med medlemsinformationsmöte
DESCRIPTION:Söndagen den 16 april är det medlemsinformation och fixardag! Vi samlas kl 13 och pratar om läget och vad som är på gång i klubben. Det kommer att vara viktig information!\nEfteråt går vi ut och hjälps åt att göra anläggningen vårfin!\nSjälvklart blir det fika!\nhttps://bratteborgsrs.se/medlemsinformation-och-fixardag/
URL:https://bratteborgsrs.se/event/fixardag-med-medlemsinformationsmote/
END:VEVENT
END:VCALENDAR