BEGIN:VCALENDAR
VERSION:2.0
PRODID:-//BratteborgsRyttarsallskap - ECPv6.15.20//NONSGML v1.0//EN
CALSCALE:GREGORIAN
METHOD:PUBLISH
X-ORIGINAL-URL:https://bratteborgsrs.se
X-WR-CALDESC:Händelser för BratteborgsRyttarsallskap
REFRESH-INTERVAL;VALUE=DURATION:PT1H
X-Robots-Tag:noindex
X-PUBLISHED-TTL:PT1H
BEGIN:VTIMEZONE
TZID:Europe/Paris
BEGIN:DAYLIGHT
TZOFFSETFROM:+0100
TZOFFSETTO:+0200
TZNAME:CEST
DTSTART:20220327T010000
END:DAYLIGHT
BEGIN:STANDARD
TZOFFSETFROM:+0200
TZOFFSETTO:+0100
TZNAME:CET
DTSTART:20221030T010000
END:STANDARD
BEGIN:DAYLIGHT
TZOFFSETFROM:+0100
TZOFFSETTO:+0200
TZNAME:CEST
DTSTART:20230326T010000
END:DAYLIGHT
BEGIN:STANDARD
TZOFFSETFROM:+0200
TZOFFSETTO:+0100
TZNAME:CET
DTSTART:20231029T010000
END:STANDARD
BEGIN:DAYLIGHT
TZOFFSETFROM:+0100
TZOFFSETTO:+0200
TZNAME:CEST
DTSTART:20240331T010000
END:DAYLIGHT
BEGIN:STANDARD
TZOFFSETFROM:+0200
TZOFFSETTO:+0100
TZNAME:CET
DTSTART:20241027T010000
END:STANDARD
END:VTIMEZONE
BEGIN:VEVENT
DTSTART;VALUE=DATE:20230703
DTEND;VALUE=DATE:20230708
DTSTAMP:20260425T122032
CREATED:20230618T171212Z
LAST-MODIFIED:20230618T171212Z
UID:446-1688342400-1688774399@bratteborgsrs.se
SUMMARY:Ridläger ridbana/ridhus bokat
DESCRIPTION:
URL:https://bratteborgsrs.se/event/ridlager-ridbana-ridhus-bokat-3/
END:VEVENT
BEGIN:VEVENT
DTSTART;TZID=Europe/Paris:20230705T180000
DTEND;TZID=Europe/Paris:20230705T200000
DTSTAMP:20260425T122032
CREATED:20230618T171501Z
LAST-MODIFIED:20230618T171501Z
UID:452-1688580000-1688587200@bratteborgsrs.se
SUMMARY:Banbyggnad pay and jump
DESCRIPTION:Banbyggnad och efter det är det inte tillåtet att rida på utebanan.
URL:https://bratteborgsrs.se/event/banbyggnad-pay-and-jump/
END:VEVENT
BEGIN:VEVENT
DTSTART;TZID=Europe/Paris:20230727T170000
DTEND;TZID=Europe/Paris:20230727T180000
DTSTAMP:20260425T122032
CREATED:20230724T191307Z
LAST-MODIFIED:20230724T191307Z
UID:462-1690477200-1690480800@bratteborgsrs.se
SUMMARY:Ridbanan bokad
DESCRIPTION:
URL:https://bratteborgsrs.se/event/ridbanan-bokad-3/
END:VEVENT
BEGIN:VEVENT
DTSTART;VALUE=DATE:20230731
DTEND;VALUE=DATE:20230805
DTSTAMP:20260425T122032
CREATED:20230618T171259Z
LAST-MODIFIED:20230618T171259Z
UID:448-1690761600-1691193599@bratteborgsrs.se
SUMMARY:Ridläger ridbana/ridhus bokat
DESCRIPTION:
URL:https://bratteborgsrs.se/event/ridlager-ridbana-ridhus-bokat-4/
END:VEVENT
END:VCALENDAR