BEGIN:VCALENDAR
VERSION:2.0
PRODID:-//BratteborgsRyttarsallskap - ECPv6.15.20//NONSGML v1.0//EN
CALSCALE:GREGORIAN
METHOD:PUBLISH
X-ORIGINAL-URL:https://bratteborgsrs.se
X-WR-CALDESC:Händelser för BratteborgsRyttarsallskap
REFRESH-INTERVAL;VALUE=DURATION:PT1H
X-Robots-Tag:noindex
X-PUBLISHED-TTL:PT1H
BEGIN:VTIMEZONE
TZID:Europe/Paris
BEGIN:DAYLIGHT
TZOFFSETFROM:+0100
TZOFFSETTO:+0200
TZNAME:CEST
DTSTART:20230326T010000
END:DAYLIGHT
BEGIN:STANDARD
TZOFFSETFROM:+0200
TZOFFSETTO:+0100
TZNAME:CET
DTSTART:20231029T010000
END:STANDARD
BEGIN:DAYLIGHT
TZOFFSETFROM:+0100
TZOFFSETTO:+0200
TZNAME:CEST
DTSTART:20240331T010000
END:DAYLIGHT
BEGIN:STANDARD
TZOFFSETFROM:+0200
TZOFFSETTO:+0100
TZNAME:CET
DTSTART:20241027T010000
END:STANDARD
BEGIN:DAYLIGHT
TZOFFSETFROM:+0100
TZOFFSETTO:+0200
TZNAME:CEST
DTSTART:20250330T010000
END:DAYLIGHT
BEGIN:STANDARD
TZOFFSETFROM:+0200
TZOFFSETTO:+0100
TZNAME:CET
DTSTART:20251026T010000
END:STANDARD
END:VTIMEZONE
BEGIN:VEVENT
DTSTART;TZID=Europe/Paris:20240302T170000
DTEND;TZID=Europe/Paris:20240302T180000
DTSTAMP:20260422T133741
CREATED:20240301T134839Z
LAST-MODIFIED:20240301T134931Z
UID:770-1709398800-1709402400@bratteborgsrs.se
SUMMARY:Ridhuset bokat
DESCRIPTION:
URL:https://bratteborgsrs.se/event/ridhuset-bokat-65/
END:VEVENT
BEGIN:VEVENT
DTSTART;TZID=Europe/Paris:20240304T180000
DTEND;TZID=Europe/Paris:20240304T200000
DTSTAMP:20260422T133741
CREATED:20240301T163748Z
LAST-MODIFIED:20240301T163748Z
UID:782-1709575200-1709582400@bratteborgsrs.se
SUMMARY:Styrelsemöte
DESCRIPTION:I krubban på kontoret.
URL:https://bratteborgsrs.se/event/styrelsemote-4/
END:VEVENT
BEGIN:VEVENT
DTSTART;TZID=Europe/Paris:20240305T161500
DTEND;TZID=Europe/Paris:20240305T170000
DTSTAMP:20260422T133741
CREATED:20240301T163639Z
LAST-MODIFIED:20240301T163639Z
UID:780-1709655300-1709658000@bratteborgsrs.se
SUMMARY:Ridhuset bokat
DESCRIPTION:
URL:https://bratteborgsrs.se/event/ridhuset-bokat-67/
END:VEVENT
BEGIN:VEVENT
DTSTART;TZID=Europe/Paris:20240307T110000
DTEND;TZID=Europe/Paris:20240307T120000
DTSTAMP:20260422T133741
CREATED:20240301T163604Z
LAST-MODIFIED:20240301T163604Z
UID:778-1709809200-1709812800@bratteborgsrs.se
SUMMARY:Ridhuset bokat
DESCRIPTION:
URL:https://bratteborgsrs.se/event/ridhuset-bokat-66/
END:VEVENT
BEGIN:VEVENT
DTSTART;TZID=Europe/Paris:20240308T140000
DTEND;TZID=Europe/Paris:20240308T150000
DTSTAMP:20260422T133741
CREATED:20240304T182532Z
LAST-MODIFIED:20240304T182532Z
UID:784-1709906400-1709910000@bratteborgsrs.se
SUMMARY:Ridhuset bokat för uppsättning av sponsorskyltar
DESCRIPTION:
URL:https://bratteborgsrs.se/event/ridhuset-bokat-for-uppsattning-av-sponsorskyltar/
END:VEVENT
BEGIN:VEVENT
DTSTART;TZID=Europe/Paris:20240308T173000
DTEND;TZID=Europe/Paris:20240308T183000
DTSTAMP:20260422T133741
CREATED:20240304T182633Z
LAST-MODIFIED:20240306T071651Z
UID:786-1709919000-1709922600@bratteborgsrs.se
SUMMARY:Ridhuset bokat
DESCRIPTION:
URL:https://bratteborgsrs.se/event/ridhuset-bokat-68/
END:VEVENT
BEGIN:VEVENT
DTSTART;TZID=Europe/Paris:20240309T150000
DTEND;TZID=Europe/Paris:20240309T233000
DTSTAMP:20260422T133741
CREATED:20240306T185252Z
LAST-MODIFIED:20240306T185252Z
UID:790-1709996400-1710027000@bratteborgsrs.se
SUMMARY:Krubban bokad
DESCRIPTION:
URL:https://bratteborgsrs.se/event/krubban-bokad-2/
END:VEVENT
BEGIN:VEVENT
DTSTART;TZID=Europe/Paris:20240312T161500
DTEND;TZID=Europe/Paris:20240312T170000
DTSTAMP:20260422T133741
CREATED:20240311T155152Z
LAST-MODIFIED:20240311T155152Z
UID:793-1710260100-1710262800@bratteborgsrs.se
SUMMARY:Ridhuset bokat
DESCRIPTION:
URL:https://bratteborgsrs.se/event/ridhuset-bokat-69/
END:VEVENT
BEGIN:VEVENT
DTSTART;TZID=Europe/Paris:20240317T130000
DTEND;TZID=Europe/Paris:20240317T140000
DTSTAMP:20260422T133741
CREATED:20240315T114630Z
LAST-MODIFIED:20240315T114630Z
UID:796-1710680400-1710684000@bratteborgsrs.se
SUMMARY:Ridhuset bokat
DESCRIPTION:
URL:https://bratteborgsrs.se/event/ridhuset-bokat-70/
END:VEVENT
BEGIN:VEVENT
DTSTART;TZID=Europe/Paris:20240324T110000
DTEND;TZID=Europe/Paris:20240324T130000
DTSTAMP:20260422T133741
CREATED:20240315T114843Z
LAST-MODIFIED:20240315T114843Z
UID:798-1711278000-1711285200@bratteborgsrs.se
SUMMARY:Söndagsfika med aktivitet
DESCRIPTION:Tipspromenad\, Ponnyridning och Fika i Krubban\, \nVälkomna!
URL:https://bratteborgsrs.se/event/sondagsfika-med-aktivitet/
END:VEVENT
BEGIN:VEVENT
DTSTART;TZID=Europe/Paris:20240329T100000
DTEND;TZID=Europe/Paris:20240329T110000
DTSTAMP:20260422T133741
CREATED:20240328T151804Z
LAST-MODIFIED:20240328T151804Z
UID:804-1711706400-1711710000@bratteborgsrs.se
SUMMARY:Ridhuset bokat
DESCRIPTION:
URL:https://bratteborgsrs.se/event/ridhuset-bokat-71/
END:VEVENT
BEGIN:VEVENT
DTSTART;TZID=Europe/Paris:20240329T130000
DTEND;TZID=Europe/Paris:20240329T140000
DTSTAMP:20260422T133741
CREATED:20240328T151839Z
LAST-MODIFIED:20240328T151839Z
UID:806-1711717200-1711720800@bratteborgsrs.se
SUMMARY:Ridhuset bokat
DESCRIPTION:
URL:https://bratteborgsrs.se/event/ridhuset-bokat-72/
END:VEVENT
BEGIN:VEVENT
DTSTART;TZID=Europe/Paris:20240331T100000
DTEND;TZID=Europe/Paris:20240331T170000
DTSTAMP:20260422T133741
CREATED:20240328T151915Z
LAST-MODIFIED:20240328T151915Z
UID:808-1711879200-1711904400@bratteborgsrs.se
SUMMARY:Ridhuset bokat
DESCRIPTION:
URL:https://bratteborgsrs.se/event/ridhuset-bokat-73/
END:VEVENT
END:VCALENDAR