BEGIN:VCALENDAR
VERSION:2.0
PRODID:-//BratteborgsRyttarsallskap - ECPv6.15.20//NONSGML v1.0//EN
CALSCALE:GREGORIAN
METHOD:PUBLISH
X-WR-CALNAME:BratteborgsRyttarsallskap
X-ORIGINAL-URL:https://bratteborgsrs.se
X-WR-CALDESC:Händelser för BratteborgsRyttarsallskap
REFRESH-INTERVAL;VALUE=DURATION:PT1H
X-Robots-Tag:noindex
X-PUBLISHED-TTL:PT1H
BEGIN:VTIMEZONE
TZID:Europe/Paris
BEGIN:DAYLIGHT
TZOFFSETFROM:+0100
TZOFFSETTO:+0200
TZNAME:CEST
DTSTART:20230326T010000
END:DAYLIGHT
BEGIN:STANDARD
TZOFFSETFROM:+0200
TZOFFSETTO:+0100
TZNAME:CET
DTSTART:20231029T010000
END:STANDARD
BEGIN:DAYLIGHT
TZOFFSETFROM:+0100
TZOFFSETTO:+0200
TZNAME:CEST
DTSTART:20240331T010000
END:DAYLIGHT
BEGIN:STANDARD
TZOFFSETFROM:+0200
TZOFFSETTO:+0100
TZNAME:CET
DTSTART:20241027T010000
END:STANDARD
BEGIN:DAYLIGHT
TZOFFSETFROM:+0100
TZOFFSETTO:+0200
TZNAME:CEST
DTSTART:20250330T010000
END:DAYLIGHT
BEGIN:STANDARD
TZOFFSETFROM:+0200
TZOFFSETTO:+0100
TZNAME:CET
DTSTART:20251026T010000
END:STANDARD
END:VTIMEZONE
BEGIN:VEVENT
DTSTART;VALUE=DATE:20240729
DTEND;VALUE=DATE:20240803
DTSTAMP:20260422T020605
CREATED:20240518T113315Z
LAST-MODIFIED:20240518T113315Z
UID:938-1722211200-1722643199@bratteborgsrs.se
SUMMARY:Ridläger
DESCRIPTION:
URL:https://bratteborgsrs.se/event/ridlager-4/
END:VEVENT
BEGIN:VEVENT
DTSTART;VALUE=DATE:20240805
DTEND;VALUE=DATE:20240810
DTSTAMP:20260422T020605
CREATED:20240518T113359Z
LAST-MODIFIED:20240518T113359Z
UID:940-1722816000-1723247999@bratteborgsrs.se
SUMMARY:Ridläger
DESCRIPTION:
URL:https://bratteborgsrs.se/event/ridlager-5/
END:VEVENT
BEGIN:VEVENT
DTSTART;VALUE=DATE:20240812
DTEND;VALUE=DATE:20240813
DTSTAMP:20260422T020605
CREATED:20240708T064229Z
LAST-MODIFIED:20240708T064229Z
UID:1010-1723420800-1723507199@bratteborgsrs.se
SUMMARY:Terminsstart ridskolan
DESCRIPTION:
URL:https://bratteborgsrs.se/event/terminsstart-ridskolan-2/
END:VEVENT
BEGIN:VEVENT
DTSTART;TZID=Europe/Paris:20240812T180000
DTEND;TZID=Europe/Paris:20240812T200000
DTSTAMP:20260422T020605
CREATED:20240518T113820Z
LAST-MODIFIED:20240708T063905Z
UID:944-1723485600-1723492800@bratteborgsrs.se
SUMMARY:Styrelsemöte
DESCRIPTION:
URL:https://bratteborgsrs.se/event/prel-styrelsemote/
END:VEVENT
BEGIN:VEVENT
DTSTART;TZID=Europe/Paris:20240828T164500
DTEND;TZID=Europe/Paris:20240828T173000
DTSTAMP:20260422T020605
CREATED:20240828T155753Z
LAST-MODIFIED:20240828T155753Z
UID:1056-1724863500-1724866200@bratteborgsrs.se
SUMMARY:Dressyrträning för Anni - ridhuset bokat
DESCRIPTION:
URL:https://bratteborgsrs.se/event/dressyrtraning-for-anni-ridhuset-bokat/
END:VEVENT
END:VCALENDAR