BEGIN:VCALENDAR
VERSION:2.0
PRODID:-//BratteborgsRyttarsallskap - ECPv6.15.20//NONSGML v1.0//EN
CALSCALE:GREGORIAN
METHOD:PUBLISH
X-ORIGINAL-URL:https://bratteborgsrs.se
X-WR-CALDESC:Händelser för BratteborgsRyttarsallskap
REFRESH-INTERVAL;VALUE=DURATION:PT1H
X-Robots-Tag:noindex
X-PUBLISHED-TTL:PT1H
BEGIN:VTIMEZONE
TZID:Europe/Paris
BEGIN:DAYLIGHT
TZOFFSETFROM:+0100
TZOFFSETTO:+0200
TZNAME:CEST
DTSTART:20230326T010000
END:DAYLIGHT
BEGIN:STANDARD
TZOFFSETFROM:+0200
TZOFFSETTO:+0100
TZNAME:CET
DTSTART:20231029T010000
END:STANDARD
BEGIN:DAYLIGHT
TZOFFSETFROM:+0100
TZOFFSETTO:+0200
TZNAME:CEST
DTSTART:20240331T010000
END:DAYLIGHT
BEGIN:STANDARD
TZOFFSETFROM:+0200
TZOFFSETTO:+0100
TZNAME:CET
DTSTART:20241027T010000
END:STANDARD
BEGIN:DAYLIGHT
TZOFFSETFROM:+0100
TZOFFSETTO:+0200
TZNAME:CEST
DTSTART:20250330T010000
END:DAYLIGHT
BEGIN:STANDARD
TZOFFSETFROM:+0200
TZOFFSETTO:+0100
TZNAME:CET
DTSTART:20251026T010000
END:STANDARD
END:VTIMEZONE
BEGIN:VEVENT
DTSTART;TZID=Europe/Paris:20240901T150000
DTEND;TZID=Europe/Paris:20240901T160000
DTSTAMP:20260422T004917
CREATED:20240828T155651Z
LAST-MODIFIED:20240828T155651Z
UID:1054-1725202800-1725206400@bratteborgsrs.se
SUMMARY:Ridhuset bokat
DESCRIPTION:
URL:https://bratteborgsrs.se/event/ridhuset-bokat-89/
END:VEVENT
BEGIN:VEVENT
DTSTART;TZID=Europe/Paris:20240908T110000
DTEND;TZID=Europe/Paris:20240908T170000
DTSTAMP:20260422T004917
CREATED:20240906T100618Z
LAST-MODIFIED:20240906T100618Z
UID:1068-1725793200-1725814800@bratteborgsrs.se
SUMMARY:Blåbärshoppning
DESCRIPTION:
URL:https://bratteborgsrs.se/event/blabarshoppning-2/
END:VEVENT
BEGIN:VEVENT
DTSTART;TZID=Europe/Paris:20240909T180000
DTEND;TZID=Europe/Paris:20240909T200000
DTSTAMP:20260422T004917
CREATED:20240906T100448Z
LAST-MODIFIED:20240906T100448Z
UID:1066-1725904800-1725912000@bratteborgsrs.se
SUMMARY:Styrelsemöte
DESCRIPTION:
URL:https://bratteborgsrs.se/event/styrelsemote-7/
END:VEVENT
BEGIN:VEVENT
DTSTART;TZID=Europe/Paris:20240922T140000
DTEND;TZID=Europe/Paris:20240922T150000
DTSTAMP:20260422T004917
CREATED:20240915T183247Z
LAST-MODIFIED:20240915T183247Z
UID:1071-1727013600-1727017200@bratteborgsrs.se
SUMMARY:Dressyrträning för Anni Högberg
DESCRIPTION:
URL:https://bratteborgsrs.se/event/dressyrtraning-for-anni-hogberg-2/
END:VEVENT
BEGIN:VEVENT
DTSTART;TZID=Europe/Paris:20240927T180000
DTEND;TZID=Europe/Paris:20240927T233000
DTSTAMP:20260422T004917
CREATED:20240518T112818Z
LAST-MODIFIED:20240518T112818Z
UID:928-1727460000-1727479800@bratteborgsrs.se
SUMMARY:Föräldravandring Vaggeryds kommun
DESCRIPTION:
URL:https://bratteborgsrs.se/event/foraldravandring-vaggeryds-kommun/
END:VEVENT
BEGIN:VEVENT
DTSTART;TZID=Europe/Paris:20240928T180000
DTEND;TZID=Europe/Paris:20240928T233000
DTSTAMP:20260422T004917
CREATED:20240518T112903Z
LAST-MODIFIED:20240518T112903Z
UID:930-1727546400-1727566200@bratteborgsrs.se
SUMMARY:Föräldravandring Vaggeryds kommun
DESCRIPTION:
URL:https://bratteborgsrs.se/event/foraldravandring-vaggeryds-kommun-2/
END:VEVENT
BEGIN:VEVENT
DTSTART;VALUE=DATE:20240929
DTEND;VALUE=DATE:20240930
DTSTAMP:20260422T004917
CREATED:20240407T173025Z
LAST-MODIFIED:20240906T100329Z
UID:853-1727568000-1727654399@bratteborgsrs.se
SUMMARY:Familjedag
DESCRIPTION:
URL:https://bratteborgsrs.se/event/prel-datum-familjedag/
END:VEVENT
END:VCALENDAR