BEGIN:VCALENDAR
VERSION:2.0
PRODID:-//BratteborgsRyttarsallskap - ECPv6.15.20//NONSGML v1.0//EN
CALSCALE:GREGORIAN
METHOD:PUBLISH
X-WR-CALNAME:BratteborgsRyttarsallskap
X-ORIGINAL-URL:https://bratteborgsrs.se
X-WR-CALDESC:Händelser för BratteborgsRyttarsallskap
REFRESH-INTERVAL;VALUE=DURATION:PT1H
X-Robots-Tag:noindex
X-PUBLISHED-TTL:PT1H
BEGIN:VTIMEZONE
TZID:Europe/Paris
BEGIN:DAYLIGHT
TZOFFSETFROM:+0100
TZOFFSETTO:+0200
TZNAME:CEST
DTSTART:20230326T010000
END:DAYLIGHT
BEGIN:STANDARD
TZOFFSETFROM:+0200
TZOFFSETTO:+0100
TZNAME:CET
DTSTART:20231029T010000
END:STANDARD
BEGIN:DAYLIGHT
TZOFFSETFROM:+0100
TZOFFSETTO:+0200
TZNAME:CEST
DTSTART:20240331T010000
END:DAYLIGHT
BEGIN:STANDARD
TZOFFSETFROM:+0200
TZOFFSETTO:+0100
TZNAME:CET
DTSTART:20241027T010000
END:STANDARD
BEGIN:DAYLIGHT
TZOFFSETFROM:+0100
TZOFFSETTO:+0200
TZNAME:CEST
DTSTART:20250330T010000
END:DAYLIGHT
BEGIN:STANDARD
TZOFFSETFROM:+0200
TZOFFSETTO:+0100
TZNAME:CET
DTSTART:20251026T010000
END:STANDARD
END:VTIMEZONE
BEGIN:VEVENT
DTSTART;VALUE=DATE:20241102
DTEND;VALUE=DATE:20241103
DTSTAMP:20260421T220301
CREATED:20240407T173249Z
LAST-MODIFIED:20241023T170501Z
UID:859-1730505600-1730591999@bratteborgsrs.se
SUMMARY:Blåbärshoppning
DESCRIPTION:
URL:https://bratteborgsrs.se/event/prel-datum-blabarshoppning/
END:VEVENT
BEGIN:VEVENT
DTSTART;TZID=Europe/Paris:20241122T133000
DTEND;TZID=Europe/Paris:20241122T143000
DTSTAMP:20260421T220301
CREATED:20241121T210601Z
LAST-MODIFIED:20241121T210601Z
UID:1085-1732282200-1732285800@bratteborgsrs.se
SUMMARY:Ridhuset bokat
DESCRIPTION:
URL:https://bratteborgsrs.se/event/ridhuset-bokat-91/
END:VEVENT
BEGIN:VEVENT
DTSTART;TZID=Europe/Paris:20241128T180000
DTEND;TZID=Europe/Paris:20241128T190000
DTSTAMP:20260421T220301
CREATED:20241124T102131Z
LAST-MODIFIED:20241124T102131Z
UID:1090-1732816800-1732820400@bratteborgsrs.se
SUMMARY:Vardagsekonomi för unga
DESCRIPTION:I samarbete med Swedbank erbjuder vi unga en utbildning i vardagsekonomi. \nDet blir en föreläsning på ca 45 min med möjlighet till frågor. \nÄven vårnadshavare är välkomna. \nVi bjuder på fika. \nPlats – Krubban
URL:https://bratteborgsrs.se/event/vardagsekonomi-for-unga/
END:VEVENT
BEGIN:VEVENT
DTSTART;TZID=Europe/Paris:20241130T131500
DTEND;TZID=Europe/Paris:20241130T140000
DTSTAMP:20260421T220301
CREATED:20241129T153806Z
LAST-MODIFIED:20241129T153806Z
UID:1095-1732972500-1732975200@bratteborgsrs.se
SUMMARY:Ridhuset bokat
DESCRIPTION:
URL:https://bratteborgsrs.se/event/ridhuset-bokat-92/
END:VEVENT
END:VCALENDAR