BEGIN:VCALENDAR
VERSION:2.0
PRODID:-//BratteborgsRyttarsallskap - ECPv6.15.20//NONSGML v1.0//EN
CALSCALE:GREGORIAN
METHOD:PUBLISH
X-ORIGINAL-URL:https://bratteborgsrs.se
X-WR-CALDESC:Händelser för BratteborgsRyttarsallskap
REFRESH-INTERVAL;VALUE=DURATION:PT1H
X-Robots-Tag:noindex
X-PUBLISHED-TTL:PT1H
BEGIN:VTIMEZONE
TZID:Europe/Paris
BEGIN:DAYLIGHT
TZOFFSETFROM:+0100
TZOFFSETTO:+0200
TZNAME:CEST
DTSTART:20240331T010000
END:DAYLIGHT
BEGIN:STANDARD
TZOFFSETFROM:+0200
TZOFFSETTO:+0100
TZNAME:CET
DTSTART:20241027T010000
END:STANDARD
BEGIN:DAYLIGHT
TZOFFSETFROM:+0100
TZOFFSETTO:+0200
TZNAME:CEST
DTSTART:20250330T010000
END:DAYLIGHT
BEGIN:STANDARD
TZOFFSETFROM:+0200
TZOFFSETTO:+0100
TZNAME:CET
DTSTART:20251026T010000
END:STANDARD
BEGIN:DAYLIGHT
TZOFFSETFROM:+0100
TZOFFSETTO:+0200
TZNAME:CEST
DTSTART:20260329T010000
END:DAYLIGHT
BEGIN:STANDARD
TZOFFSETFROM:+0200
TZOFFSETTO:+0100
TZNAME:CET
DTSTART:20261025T010000
END:STANDARD
END:VTIMEZONE
BEGIN:VEVENT
DTSTART;TZID=Europe/Paris:20250307T160000
DTEND;TZID=Europe/Paris:20250307T230000
DTSTAMP:20260421T153421
CREATED:20250227T170708Z
LAST-MODIFIED:20250227T170708Z
UID:1222-1741363200-1741388400@bratteborgsrs.se
SUMMARY:Krubban bokad
DESCRIPTION:
URL:https://bratteborgsrs.se/event/krubban-bokad-3/
END:VEVENT
BEGIN:VEVENT
DTSTART;TZID=Europe/Paris:20250309T123000
DTEND;TZID=Europe/Paris:20250309T140000
DTSTAMP:20260421T153421
CREATED:20250306T161911Z
LAST-MODIFIED:20250306T161911Z
UID:1224-1741523400-1741528800@bratteborgsrs.se
SUMMARY:Ridhuset bokat
DESCRIPTION:
URL:https://bratteborgsrs.se/event/ridhuset-bokat-107/
END:VEVENT
BEGIN:VEVENT
DTSTART;TZID=Europe/Paris:20250311T153000
DTEND;TZID=Europe/Paris:20250311T163000
DTSTAMP:20260421T153421
CREATED:20250310T123623Z
LAST-MODIFIED:20250310T123623Z
UID:1227-1741707000-1741710600@bratteborgsrs.se
SUMMARY:Ridhuset bokat
DESCRIPTION:
URL:https://bratteborgsrs.se/event/ridhuset-bokat-108/
END:VEVENT
BEGIN:VEVENT
DTSTART;TZID=Europe/Paris:20250330T130000
DTEND;TZID=Europe/Paris:20250330T160000
DTSTAMP:20260421T153421
CREATED:20250329T090424Z
LAST-MODIFIED:20250329T090424Z
UID:1230-1743339600-1743350400@bratteborgsrs.se
SUMMARY:Ridhuset bokat
DESCRIPTION:
URL:https://bratteborgsrs.se/event/ridhuset-bokat-109/
END:VEVENT
END:VCALENDAR